BEGIN:VCALENDAR
VERSION:2.0
PRODID:gruene-weinheim.de
METHOD:PUBLISH
BEGIN:VTIMEZONE
TZID:Europe/Berlin
X-LIC-LOCATION:Europe/Berlin
BEGIN:DAYLIGHT
TZOFFSETFROM:+0100
TZOFFSETTO:+0200
TZNAME:CEST
DTSTART:19700329T020000
RRULE:FREQ=YEARLY;INTERVAL=1;BYDAY=-1SU;BYMONTH=3
END:DAYLIGHT
BEGIN:STANDARD
TZOFFSETFROM:+0200
TZOFFSETTO:+0100
TZNAME:CET
DTSTART:19701025T030000
RRULE:FREQ=YEARLY;INTERVAL=1;BYDAY=-1SU;BYMONTH=10
END:STANDARD
END:VTIMEZONE
BEGIN:VEVENT
UID:373b4a8d52d329fed2b1308a7aa8df82@gruene-weinheim.de
URL;VALUE=URI:https://gruene-weinheim.de/termine/pizza-politik-2/
LOCATION:tba
SUMMARY:Pizza & Politik
DESCRIPTION;ALTREP="data:text/html,%0A%3Cp%3EGr%C3%BCner%20Stammtisch%3C%
 2Fp%3E%0A":Grüner Stammtisch
CLASS:PUBLIC
DTSTART;TZID=Europe/Berlin:20260521T190000
DTEND;TZID=Europe/Berlin:20260521T210000
DTSTAMP:20260423T134518
END:VEVENT
END:VCALENDAR