BEGIN:VCALENDAR
VERSION:2.0
PRODID:gruene-weinheim.de
METHOD:PUBLISH
BEGIN:VTIMEZONE
TZID:Europe/Berlin
X-LIC-LOCATION:Europe/Berlin
BEGIN:DAYLIGHT
TZOFFSETFROM:+0100
TZOFFSETTO:+0200
TZNAME:CEST
DTSTART:19700329T020000
RRULE:FREQ=YEARLY;INTERVAL=1;BYDAY=-1SU;BYMONTH=3
END:DAYLIGHT
BEGIN:STANDARD
TZOFFSETFROM:+0200
TZOFFSETTO:+0100
TZNAME:CET
DTSTART:19701025T030000
RRULE:FREQ=YEARLY;INTERVAL=1;BYDAY=-1SU;BYMONTH=10
END:STANDARD
END:VTIMEZONE
BEGIN:VEVENT
UID:cd5a428e52dc73951d070bc05f168df7@gruene-weinheim.de
URL;VALUE=URI:https://gruene-weinheim.de/termine/fahrradtour-besichtigung
 -des-klaerwerks/
LOCATION:tba
SUMMARY:Fahrradtour & Besichtigung des Klärwerks
DESCRIPTION;ALTREP="data:text/html,":
CLASS:PUBLIC
DTSTART;TZID=Europe/Berlin:20260616T150000
DTEND;TZID=Europe/Berlin:20260616T170000
DTSTAMP:20260423T135402
END:VEVENT
END:VCALENDAR